BEGIN:VCALENDAR
VERSION:2.0
PRODID:-//Abcd Trading - ECPv6.15.20//NONSGML v1.0//EN
CALSCALE:GREGORIAN
METHOD:PUBLISH
X-WR-CALNAME:Abcd Trading
X-ORIGINAL-URL:https://www.abcdtrading.com
X-WR-CALDESC:Događaji za Abcd Trading
REFRESH-INTERVAL;VALUE=DURATION:PT1H
X-Robots-Tag:noindex
X-PUBLISHED-TTL:PT1H
BEGIN:VTIMEZONE
TZID:UTC
BEGIN:STANDARD
TZOFFSETFROM:+0000
TZOFFSETTO:+0000
TZNAME:UTC
DTSTART:20240101T000000
END:STANDARD
END:VTIMEZONE
BEGIN:VEVENT
DTSTART;TZID=UTC:20250220T080000
DTEND;TZID=UTC:20250221T220000
DTSTAMP:20260421T094228
CREATED:20250204T133043Z
LAST-MODIFIED:20250204T133043Z
UID:2492-1740038400-1740175200@www.abcdtrading.com
SUMMARY:ABCD valna strategija
DESCRIPTION:  \nVoditelj radionice: \nZdenko Grđan (https://www.linkedin.com/in/zdenko-grdjan-049b47175/ )  –  dnevni trgovac valutama/zlatom/srebrom i mentor sa više od 20 godina iskustva. U dnevnom trgovanju koristi jednostavne principe ABCD valne strategije sa primarnim fokusom na upravljanje rizicima. Prvi seminar o primjeni Tehničke analize održao davne 2003.g. Vlasnik i urednik portala www.abcdtrading.com Osnivač i suvlasnik portala https://gt.solutions/. Stalni predavač o Tehničkoj analizi na Akademiji Zagrebačke burze. Napisao i objavio više stotina analiza grafova i tekstova o tehničkoj analizi\, trgovanju i potencijalnim tržišnim kretanjima. \nVrijeme održavanja: Četvrtak 20.02.2025. u 18h (trajanje 150 min) \nPetak 21.02.2025. u 18h (trajanje 150 min) \nCijena: 150 € (rane prijave ostvaruju 10 posto popusta\, a popust vrijedi do 10.02.2025.) \nNačin plaćanja: Transakcijski račun – IBAN: HR76 2407 0001 1002 4999 4 \nZeleni kvadrat stana d.o.o. \nUlica Bele Bartoka 26\, Zagreb \nVrsta predavanja: Online – zoom aplikacija \n  \nCilj radionice: \nPrimjena načela ABCD valne strategije omogućuje korisnicima brzo prepoznavanje stanja i faze trenda\, što doprinosi kvalitetnijem otvaranju pozicija\, definiranju rizika i profitnog cilja. ABCD valna teorija primjenjiva je u trgovanju na svim vremenskim intervalima i sa svim financijskim instrumentima koji su dovoljno likvidni – dionice\, indeksi\, valute\, kripto i obveznice. Za sudjelovanje na radionici nije potrebno posebno predznanje. \n  \nProgram radionice : \nTeorija (Četvrtak 18-20:30h) \n\nPovijest i upotreba simetričnih obrazaca\nABCD – osnovni cijenovni pomak\nUočavanje i definiranje impulsnog vala\nTočka C – temelj valne strategije\nFibbonacci retracement/extension\nDefiniranje rizika i potencijalnog profita/risk management\nRevidiranje postojeće strategije – nova točka C?\nABCD valna strategija vs Elliott-ova valna strategija\nViševremenska analiza\nManji vremenski period vs duži vremenski period\nDnevno trgovanje vs pozicijsko trgovanje\nDodatni tehnički alati – 20 EMA i RSI\nTrgovačke strategije – primjeri\nZaključak/Diskusija\n\nPraksa (Petak 18:00-20:30h) \n\nDionički indeksi – S&P 500\, DAX – analiza i evaluacijski proces /primjeri\nDionice – Tesla\, Apple\, Amazon\, AMD – analiza i evaluacijski proces/primjeri\nValutni parovi – EUR/USD\, AUD/CAD – analiza i evaluacijski proces/primjeri\nKripto valute – BTC\, ETH i XRP – analiza i evaluacijski proces/primjeri\nRobni futures-i – zlato\, srebro\, nafta\, šećer – analiza i evaluacijski proces/primjeri\nObveznice – analiza i evaluacijski proces/primjeri\n\nNapomena:  \nSvaki polaznik ima pravo na besplatne konzultacije u trajanju od 1h. \nPraktični dio predavanja izvodi se na profesionalnoj Metastock i Refinitiv Eikon platformi
URL:https://www.abcdtrading.com/zbivanja/abcd-valna-strategija-5/
ATTACH;FMTTYPE=image/jpeg:https://www.abcdtrading.com/wp-content/uploads/2025/02/vizual-2-1-1.jpg
END:VEVENT
END:VCALENDAR