BEGIN:VCALENDAR
VERSION:2.0
PRODID:-//Abcd Trading - ECPv6.15.20//NONSGML v1.0//EN
CALSCALE:GREGORIAN
METHOD:PUBLISH
X-ORIGINAL-URL:https://www.abcdtrading.com
X-WR-CALDESC:Događaji za Abcd Trading
REFRESH-INTERVAL;VALUE=DURATION:PT1H
X-Robots-Tag:noindex
X-PUBLISHED-TTL:PT1H
BEGIN:VTIMEZONE
TZID:UTC
BEGIN:STANDARD
TZOFFSETFROM:+0000
TZOFFSETTO:+0000
TZNAME:UTC
DTSTART:20230101T000000
END:STANDARD
END:VTIMEZONE
BEGIN:VEVENT
DTSTART;TZID=UTC:20240413T090000
DTEND;TZID=UTC:20240413T144500
DTSTAMP:20260421T184933
CREATED:20240307T142413Z
LAST-MODIFIED:20240307T142413Z
UID:2352-1712998800-1713019500@www.abcdtrading.com
SUMMARY:Uvod u Elliott-ovu valnu teoriju
DESCRIPTION:O radionici:\nVoditelj predavanja: Zdenko Grđan – preko 20 godina iskustva u aktivnom trgovanju na FX tržištu (daily strategije)\, redoviti predavač na Akademiji Zagrebačke burze – Tehnička analiza\,)\, član izvršnog odbora SEEMT – South and Eastern Europe Market Technicians Association\, zastupnik Metastock platforme za Hrvatsku \nVrsta predavanja: Online – zoom aplikacija\nDatum: Subota 13.04.2024.\nTrajanje: 9-14:45h (pauza za ručak u vremenu od 12-12:30h)\nCijena: 240 € + pdv (rane prijave ostvaruju 10 % popusta)\nNačin plaćanja:\nTransakcijski račun – IBAN: HR76 2407 0001 1002 4999 4\nZeleni kvadrat stana d.o.o.\nUlica Bele Bartoka 26\, Zagreb \nCilj radionice:\nKasnih 20 –tih godina prošlog stoljeća\, Ralph Nelson Elliott zaključio je proučavajući tržište dionica\, da se na tržištu i u prirodi kretanja ne odvijaju slučajno i kaotično\, nego u dosta preciznim i predvidljivim ciklusima. Spomenuti ciklusi odraz su stanja svijesti pojedinca (mase)\, a posljedica su raznih ekonomskih\, socijalnih i političkih utjecaja. Ralph Nelson Elliott vjerovao je da se ti ciklusi ponavljaju po točno određenim pravilima\, definirajući valnu teoriju\, kakvu poznajemo danas – Elliott Wave Theory. Primjena temeljnih načela ove teorije omogućava nam:\n1. Rano prepoznavanje i određivanje smjera kretanja investicijskog ciklusa – precizna identifikacija\ntrenda u promatranom vremenskom intervalu (svi vremenski intervali)\n2. Prepoznavanje korektivnih valova unutar investicijskog ciklusa – lakše određujemo mjesto\nulaska u investicijski ciklus (poziciju)\n3. Preciznu karakterizaciju valova unutar investicijskog ciklusa – podižemo kvalitetu trgovanja\n4. Matematičkim metodama procjenjujemo projekciju svakog vala unutar investicijskog ciklusa –\nšto nam olakšava odrediti „take profit“ unutar samog ciklusa\n5. Rano prepoznavanje tržišnih anomalija – kvalitetnije štitimo svoj portfelj (imovinu) \nRadionica je namijenjena svima koji prate financijska tržišta i ovise o procjeni njegovih budućih kretanja.\nCiljana skupina polaznika su brokeri\, investicijski savjetnici\, portfolio manageri\, financijski analitičari\,\ntrgovci (trader-i)\, korporativni rizničari i privatni ulagači. \nProgram radionice : \nTeorija (9-12h)\n1. Uvod u Elliott-ovu valnu teoriju\n2. Osnovna pravila Elliott-ove valne teorije\n3. Napredne metode Elliott-ove valne teorije\n4. Ostale značajke Elliott-ove valne teorije \nPraksa (12:30-14:45h)\n1. Promatranje i analiziranje odabranih financijskih instrumenata – indeksi\, dionice\, valutni\nparovi\, kripto imovina i obveznice – različiti vremenski intervali\n2. Određivanje i brojanje valova unutar ciklusa\n3. Odabir najpovoljnijeg mjesta za ulazak u poziciju – entry point\, stop loss i take profit\n4. Primjena različitih tehnika i strategija trgovanja\n5. Kontinuirano brojanje valova i redefiniranje zadanih strategija\n6. Izrada plana trgovanja \nNapomena:\nPraktični dio predavanja izvodi se na profesionalnoj Metastock i Refinitiv Eikon platformi.
URL:https://www.abcdtrading.com/zbivanja/uvod-u-elliott-ovu-valnu-teoriju-2/
LOCATION:Online – Zoom aplikacija
CATEGORIES:Edukacije
ATTACH;FMTTYPE=image/jpeg:https://www.abcdtrading.com/wp-content/uploads/2024/03/vizual-2-scaled.jpg
END:VEVENT
END:VCALENDAR