BEGIN:VCALENDAR
VERSION:2.0
PRODID:-//Abcd Trading - ECPv6.15.20//NONSGML v1.0//EN
CALSCALE:GREGORIAN
METHOD:PUBLISH
X-ORIGINAL-URL:https://www.abcdtrading.com
X-WR-CALDESC:Događaji za Abcd Trading
REFRESH-INTERVAL;VALUE=DURATION:PT1H
X-Robots-Tag:noindex
X-PUBLISHED-TTL:PT1H
BEGIN:VTIMEZONE
TZID:UTC
BEGIN:STANDARD
TZOFFSETFROM:+0000
TZOFFSETTO:+0000
TZNAME:UTC
DTSTART:20230101T000000
END:STANDARD
END:VTIMEZONE
BEGIN:VEVENT
DTSTART;TZID=UTC:20240629T090000
DTEND;TZID=UTC:20240629T143000
DTSTAMP:20260421T154246
CREATED:20240520T063019Z
LAST-MODIFIED:20240624T101706Z
UID:2433-1719651600-1719671400@www.abcdtrading.com
SUMMARY:ABCD valna strategija
DESCRIPTION:O radionici:\nVoditelj predavanja: Zdenko Grđan – preko 20 godina iskustva u aktivnom trgovanju na FX tržištu (daily strategije)\, redoviti predavač na Akademiji Zagrebačke burze – Tehnička analiza\, član izvršnog odbora SEEMT – South and Eastern Europe Market Technicians Association\, zastupnik Metastock platforme za Hrvatsku \nVrsta predavanja: Online – zoom aplikacija\nTrajanje: 9-14:30h (pauza od 11:30 do 12:00)\nCijena: 180 € – pdv uključen (rane prijave ostvaruju 10 posto popusta) \nNačin plaćanja:\nTransakcijski račun – IBAN: HR76 2407 0001 1002 4999 4\nZeleni kvadrat stana d.o.o.\nUlica Bele Bartoka 26\, Zagreb \nCilj radionice:\nPrimjena načela ABCD valne teorije omogućuje korisnicima brzo prepoznavanje stanja i faze trenda\, što doprinosi kvalitetnijem otvaranju pozicija\, definiranju rizika i profitnog cilja. ABCD valna teorija primjenjiva je u trgovanju na svim vremenskim intervalima i sa svim  financijskim instrumentima koji su likvidni – dionice\, indeksi\, valute\, kripto i robni futures-i. Za sudjelovanje na radionici nije potrebno\nposebno predznanje. \nProgram radionice :\n\nTeorija (9-11:30) \n\nPovijest simetričnih obrazca – GARTLEY\nABCD – osnovni cijenovni pomak\nUočavanje i definiranje impulsnog vala\nTočka C – temelj valne strategije\nDež\nDefiniranje rizika i potencijalnog profita\nRevizija postojeće strategije\nViševremenska analiza\nManji vremenski period vs duži vremenski period\nDodatni tehnički alati – 10 SMA\, 20 SMA i RSI\nTrgovačke strategije – primjeri\nKreiranje investicijskog/trgovačkog portfelja\nZaključak\n\nPraksa (12-14:30h) \n\nDionički indeksi – S&amp;P 500\, DAX\, CROBEX\, NASDAQ\nDionice – Tesla\, Apple\, Amazon\, AMD i jedna dionica po odabiru većine polaznika\nValutni parovi – EUR/USD\, AUD/CAD\nKripto imovina – BTC\, ETH i XRP\nRobni futuers-i – zlato\, srebro i nafta\nObveznice\n\nNapomena:\nPraktični dio predavanja izvodi se na profesionalnoj Metastock i Refinitiv Eikon platformi
URL:https://www.abcdtrading.com/zbivanja/abcd-valna-strategija-3/
LOCATION:Online – Zoom aplikacija
CATEGORIES:Edukacije
ATTACH;FMTTYPE=image/jpeg:https://www.abcdtrading.com/wp-content/uploads/2024/05/vizual-18.6.jpg
END:VEVENT
END:VCALENDAR