BEGIN:VCALENDAR
VERSION:2.0
PRODID:-//Abcd Trading - ECPv6.15.20//NONSGML v1.0//EN
CALSCALE:GREGORIAN
METHOD:PUBLISH
X-ORIGINAL-URL:https://www.abcdtrading.com
X-WR-CALDESC:Događaji za Abcd Trading
REFRESH-INTERVAL;VALUE=DURATION:PT1H
X-Robots-Tag:noindex
X-PUBLISHED-TTL:PT1H
BEGIN:VTIMEZONE
TZID:UTC
BEGIN:STANDARD
TZOFFSETFROM:+0000
TZOFFSETTO:+0000
TZNAME:UTC
DTSTART:20230101T000000
END:STANDARD
END:VTIMEZONE
BEGIN:VEVENT
DTSTART;TZID=UTC:20240316T090000
DTEND;TZID=UTC:20240316T143000
DTSTAMP:20260423T014531
CREATED:20240307T142401Z
LAST-MODIFIED:20240307T143753Z
UID:2350-1710579600-1710599400@www.abcdtrading.com
SUMMARY:ABCD valna strategija
DESCRIPTION:O radionici:\nVoditelj predavanja: Zdenko Grđan – preko 20 godina iskustva u aktivnom trgovanju na FX tržištu (daily strategije)\, redoviti predavač na Akademiji Zagrebačke burze – Tehnička analiza\, član izvršnog odbora SEEMT – South and Eastern Europe Market Technicians Association\, zastupnik Metastock platforme za Hrvatsku \nVrsta predavanja: Online – zoom aplikacija\nDatum: Subota 16.03.2024.\nTrajanje: 9-14:30h (pauza od 11:30 do 12:00)\nCijena: 180 € – pdv uključen (rane prijave ostvaruju 10 posto popusta)\nNačin plaćanja:\nTransakcijski račun – IBAN: HR76 2407 0001 1002 4999 4\nZeleni kvadrat stana d.o.o.\nUlica Bele Bartoka 26\, Zagreb \nCilj radionice:\nPrimjena načela ABCD valne teorije omogućuje korisnicima brzo prepoznavanje stanja i faze trenda\, što doprinosi kvalitetnijem otvaranju pozicija\, definiranju rizika i profitnog cilja. ABCD valna teorija primjenjiva je u trgovanju na svim vremenskim intervalima i sa svim financijskim instrumentima koji su likvidni – dionice\, indeksi\, valute\, kripto i robni futures-i. Za sudjelovanje na radionici nije potrebno\nposebno predznanje. \nProgram radionice :\n\nTeorija (9-11:30)\n1. Povijest simetričnih obrazca – GARTLEY\n2. ABCD – osnovni cijenovni pomak\n3. Uočavanje i definiranje impulsnog vala\n4. Točka C – temelj valne strategije\n5. Deiniranje rizika i potencijalnog profita\n6. Revizija postojeće strategije\n7. Viševremenska analiza\n8. Manji vremenski period vs duži vremenski period\n9. Dodatni tehnički alati – 10 SMA\, 20 SMA i RSI\n10. Trgovačke strategije – primjeri\n11. Kreiranje investicijskog/trgovačkog portfelja\n12. Zaključak \nPraksa (12-14:30h)\n1. Dionički indeksi – S&P 500\, DAX\, CROBEX\, NASDAQ\n2. Dionice – Tesla\, Apple\, Amazon\, AMD i jedna dionica po odabiru većine polaznika\n3. Valutni parovi – EUR/USD\, AUD/CAD\n4. Kripto imovina – BTC\, ETH i XRP\n5. Robni futuers-i – zlato\, srebro i nafta\n6. Obveznice \nNapomena:\nPraktični dio predavanja izvodi se na profesionalnoj Metastock i Refinitiv Eikon platformi
URL:https://www.abcdtrading.com/zbivanja/abcd-valna-strategija-2/
LOCATION:Online – Zoom aplikacija
CATEGORIES:Edukacije
ATTACH;FMTTYPE=image/jpeg:https://www.abcdtrading.com/wp-content/uploads/2024/03/vizual-1-scaled.jpg
END:VEVENT
END:VCALENDAR