BEGIN:VCALENDAR
VERSION:2.0
PRODID:-//Abcd Trading - ECPv6.15.20//NONSGML v1.0//EN
CALSCALE:GREGORIAN
METHOD:PUBLISH
X-WR-CALNAME:Abcd Trading
X-ORIGINAL-URL:https://www.abcdtrading.com
X-WR-CALDESC:Događaji za Abcd Trading
REFRESH-INTERVAL;VALUE=DURATION:PT1H
X-Robots-Tag:noindex
X-PUBLISHED-TTL:PT1H
BEGIN:VTIMEZONE
TZID:UTC
BEGIN:STANDARD
TZOFFSETFROM:+0000
TZOFFSETTO:+0000
TZNAME:UTC
DTSTART:20230101T000000
END:STANDARD
END:VTIMEZONE
BEGIN:VEVENT
DTSTART;TZID=UTC:20240328T180000
DTEND;TZID=UTC:20240329T210000
DTSTAMP:20260422T024700
CREATED:20240307T142408Z
LAST-MODIFIED:20240307T143756Z
UID:2351-1711648800-1711746000@www.abcdtrading.com
SUMMARY:Kako postići konzistentnost u aktivnom trgovanju/investiranju pomoću alata Tehničke analize?
DESCRIPTION:O radionici:\nVoditelj predavanja: Zdenko Grđan – preko 20 godina iskustva u aktivnom trgovanju na FX tržištu (daily strategije)\, redoviti predavač na Akademiji Zagrebačke burze – Tehnička analiza\,)\, član izvršnog odbora SEEMT – South and Eastern Europe Market Technicians Association\, zastupnik Metastock platforme za Hrvatsku \nVrsta predavanja: Online – zoom aplikacija\nDatum: Četvrtak 28.03.2024. i Petak 29.03.2024.\nTrajanje: 18:00 – 21:00h (pauze po dogovoru)\nCijena: 150 € – pdv uključen (rane prijave ostvaruju 10 posto popusta)\nNačin plaćanja:\nTransakcijski račun – IBAN: HR76 2407 0001 1002 4999 4\nZeleni kvadrat stana d.o.o.\nUlica Bele Bartoka 26\, Zagreb \nCilj radionice:\nDnevno trgovanje uvelike se razlikuje od srednjeročnog i dugoročnog trgovanja (investiranja)\, ne samo po duljini trajanja investicijskog ciklusa\, nego i po nizu drugih važnih detalja\, koje možemo iščitati iz kretanja cijene nekog financijskog instrumenta\, te njenog volumena. Dnevno trgovanje zahtjeva visok stupanj znanja\, veliku moć zapažanja i vojničku disciplinu. Tehnička analiza i njeni alati nam\nomogućavaju da u kratkom vremenu dobijemo uvid u trenutna i potencijalna tržišna kretanja sa visokim postotkom uspješnosti realizacije trade-a. \nProgram radionice :\n\nTeorija\n1. Zanimanje trader – prednosti i mane\n2. Investiranje vs trgovanje\n3. Osnovne pretpostavke u izradi trgovačke strategije – vremenski horizont\, procjena\nprihvatljivog rizika(risk management)\n4. Odabir odgovarajućih imovinskih klasa za trgovanje\n5. Viševremenska analiza i ispravne postavke grafova\n6. Visoka frekvencija trgovanja/pozicijsko trgovanje\n7. Izrada trgovačkih strategija koje nam osiguravaju konzistenost\n8. Metodologija i primjena osnovnih alata u trgovanju\n9. Upravljanje rizikom/profitom\n10. Mindset \nPraksa – grafovi\n1. Indeksi – analiza S&P 500\, Nasdaq100 i Crobex\n2. Dionice – dionice iz Nasdaq100\, Crobex i S&P500\n3. Valute – dolarski indeks\, EUR/USD i AUD/CAD\n4. Kripto imovina – BTC/USD i XRP/USD\nDiskusija – ponavljanje i razmatranje bitnih dijelova izlaganja\, pitanja i odgovori \nNapomena:\nPraktični dio predavanja izvodi se na profesionalnoj Metastock i Refinitiv Eikon platformi
URL:https://www.abcdtrading.com/zbivanja/kako-postici-konzistentnost-u-aktivnom-trgovanju-investiranju-pomocu-alata-tehnicke-analize/
LOCATION:Online – Zoom aplikacija
CATEGORIES:Edukacije
ATTACH;FMTTYPE=image/jpeg:https://www.abcdtrading.com/wp-content/uploads/2024/03/vizual-3-scaled.jpg
END:VEVENT
END:VCALENDAR