BEGIN:VCALENDAR
VERSION:2.0
PRODID:-//Abcd Trading - ECPv6.15.20//NONSGML v1.0//EN
CALSCALE:GREGORIAN
METHOD:PUBLISH
X-WR-CALNAME:Abcd Trading
X-ORIGINAL-URL:https://www.abcdtrading.com
X-WR-CALDESC:Događaji za Abcd Trading
REFRESH-INTERVAL;VALUE=DURATION:PT1H
X-Robots-Tag:noindex
X-PUBLISHED-TTL:PT1H
BEGIN:VTIMEZONE
TZID:UTC
BEGIN:STANDARD
TZOFFSETFROM:+0000
TZOFFSETTO:+0000
TZNAME:UTC
DTSTART:20240101T000000
END:STANDARD
END:VTIMEZONE
BEGIN:VEVENT
DTSTART;TZID=UTC:20250626T180000
DTEND;TZID=UTC:20250627T203000
DTSTAMP:20260421T212505
CREATED:20250604T125210Z
LAST-MODIFIED:20250606T100206Z
UID:2503-1750960800-1751056200@www.abcdtrading.com
SUMMARY:Online radionica: ABCD valna strategija
DESCRIPTION:🎯 Od teorije do prakse – konkretni primjeri na svim tržištima \n📅 Termin:\n🗓️ Četvrtak\, 26. lipnja 2025. u 18:00 h (trajanje: 150 min)\n🗓️ Petak\, 27. lipnja 2025. u 18:00 h (trajanje: 150 min)\n📍 Lokacija: Online (Zoom) \n💶 Cijena: 150 €\n🎟️ Rane prijave ostvaruju 10 % popusta do 10. lipnja 2025.\n💳 Plaćanje:\nIBAN: HR76 2407 0001 1002 4999 4\nZeleni kvadrat stana d.o.o.\, Ulica Bele Bartoka 26\, Zagreb \n👨‍🏫 Voditelj radionice: Zdenko Grđan \nDnevni trgovac (valute\, zlato\, srebro) i mentor s preko 20 godina iskustva.\n📌 Koristi jednostavne principe ABCD valne strategije s naglaskom na upravljanje rizicima.\n📌 Održao prvi seminar o tehničkoj analizi još 2003. godine.\n📌 Vlasnik portala abcdtrading.com i suosnivač portala gt.solutions\n📌 Predavač na Akademiji Zagrebačke burze\, autor stotina analiza i edukativnih tekstova. \n🎯 Cilj radionice \nABCD valna strategija omogućuje brže i jasnije prepoznavanje trenda i tržišne faze\, što vodi kvalitetnijem ulasku u poziciju\, preciznijem definiranju rizika i profitnog cilja.\n✅ Strategija je primjenjiva na svim vremenskim intervalima i instrumentima: dionice\, indeksi\, valute\, kripto\, obveznice. \n📌 Posebno pogodno za početnike – predznanje nije potrebno. \n📚 Program radionice \n🔹 Teorija (četvrtak\, 18:00–20:30 h) \n\nPovijest i primjena simetričnih obrazaca\nOsnove ABCD cjenovnih pomaka\nPrepoznavanje impulsnog vala\nTočka C – središte strategije\nFibonacci razine (retracement i extension)\nUpravljanje rizikom i definicija profita\nNova točka C – prilagodba strategije\nABCD vs. Elliott valna teorija\nViševremenska analiza\nKorištenje različitih vremenskih okvira\nDnevno vs. pozicijsko trgovanje\nDodaci: 20 EMA\, RSI\nPrimjeri trgovačkih strategija\nZaključak i diskusija\n\n🔹 Praksa (petak\, 18:00–20:30 h) \n✅ Analize u realnom tržišnom okruženju koristeći MetaStock i Refinitiv Eikon: \n\n📊 Dionički indeksi: S&P 500\, DAX\n📈 Dionice: Tesla\, Apple\, Amazon\, AMD\n💱 Valutni parovi: EUR/USD\, AUD/CAD\n₿ Kriptovalute: BTC\, ETH\, XRP\n🛢️ Robni futuresi: zlato\, srebro\, nafta\, šećer\n💵 Obveznice\n\n🎓 Pridružite se radionici i saznajte zašto ABCD valna strategija mijenja pristup trgovanju. \n📩 Za prijave i dodatne informacije: info@abcdtrading.com \n🎓 Broj mjesta je ograničen – prijavite se na vrijeme i iskoristite rani popust!
URL:https://www.abcdtrading.com/zbivanja/online-radionica-abcd-valna-strategija/
LOCATION:Online – Zoom aplikacija
CATEGORIES:Webinari
ATTACH;FMTTYPE=image/jpeg:https://www.abcdtrading.com/wp-content/uploads/2025/06/vizual-2-1-12.jpg
END:VEVENT
BEGIN:VEVENT
DTSTART;TZID=UTC:20250630T180000
DTEND;TZID=UTC:20250630T190000
DTSTAMP:20260421T212505
CREATED:20250604T125414Z
LAST-MODIFIED:20250606T100130Z
UID:2506-1751306400-1751310000@www.abcdtrading.com
SUMMARY:Webinar: MetaStock – Napredni alati u praksi
DESCRIPTION:Datum: 30 lipnja 2025. | 🕕 Vrijeme: 18:00 h\n💻 Lokacija: Online (besplatno) \nMetaStock platforma već više od tri desetljeća pruža jedan od najkvalitetnijih servisa za sve koji prate\, analiziraju i aktivno trguju na financijskim tržištima. Uz napredne grafičke prikaze i fleksibilne alate koje lako možete prilagoditi vlastitom stilu trgovanja\, MetaStock vam pomaže da ostanete korak ispred u izuzetno dinamičnom tržišnom okruženju. Isprobajte MetaStock platformu i uvjerite se zašto ju privatni ulagači diljem svijeta smatraju najboljim softverom za Tehničku analizu u 2024. godini. \n🔍 Teme: \n✅ Uvod u MetaStock okruženje\n✅ Brza pretraga tržišta\n✅ Kreiranje vlastitih predložaka i strategija\n✅ Kako pomoću MetaStock platforme brže i preciznije donositi odluke \n✅ Pitanja i odgovori \n🎙️ Predavač: \n👤 Zdenko Grđan – MetaStock korisnik Metastock platforme više od 15 godina \n🎁 Posebna pogodnost za sudionike\nZa sve sudionike webinara pripremili smo posebne promotivne popuste na MetaStock proizvode i edukacijske usluge.\n📩 Detalje ćete saznati tijekom webinara – isplati se ostati do kraja! \n🔒 Broj mjesta je ograničen – prijavite se na vrijeme! \n📩 Prijave: info@abcdtrading.com \n 
URL:https://www.abcdtrading.com/zbivanja/webinar-metastock-napredni-alati-u-praksi/
LOCATION:Online – Zoom aplikacija
END:VEVENT
BEGIN:VEVENT
DTSTART;TZID=UTC:20250827T180000
DTEND;TZID=UTC:20250827T190000
DTSTAMP:20260421T212505
CREATED:20250814T153841Z
LAST-MODIFIED:20250814T153841Z
UID:2521-1756317600-1756321200@www.abcdtrading.com
SUMMARY:Webinar: Tajne uspješnog trgovanja na tržištu valuta- Psihologija trgovanja & Risk Management
DESCRIPTION:U svijetu valutnog trgovanja ne postoji čarobna formula koja jamči uspjeh. Strategija koja jednom traderu donosi odlične rezultate\, drugome može biti potpuno neprimjenjiva. Upravo zato ključ uspješnog trgovanja nije samo u strategiji\, već u kontroli emocija\, disciplini i učinkovitom upravljanju rizikom. \n🎙️ Predavač: Zdenko Grđan \n📚 Teme webinara \n1. Psihologija pobjedničkog tradera \n2. Najčešće psihološke zamke (strah\, pohlepa\, osveta) \n3. Važnost trgovinskog plana i discipline \n4. Upravljanje pozicijom – koliki rizik je “zdrav” \n5. Postavljanje stop loss-a i profit targeta \n6. Risk-reward omjer – kako ga optimizirati \n7. Dnevnik trgovanja – alat za samokontrolu \n8. Q&A – odgovori na vaša pitanja \n📌 Bonus: Analiza i kratki pregled tržišta \n— \n🎯 Na ovom webinaru naučit ćete kako izbjeći najčešće psihološke zamke\, kako donositi racionalne odluke i kako postaviti jasna pravila upravljanja kapitalom — bez obzira na vaš stil trgovanja. \n📅 Datum: 27. kolovoza 2025.\n🕕 Vrijeme: 18:00 h\n💻 Lokacija: Online\n🔒 Broj mjesta je ograničen – osiguraj svoje na vrijeme!\n📩 Prijave: info@abcdtrading.com
URL:https://www.abcdtrading.com/zbivanja/webinar-tajne-uspjesnog-trgovanja-na-trzistu-valuta-psihologija-trgovanja-risk-management/
LOCATION:Online – Zoom aplikacija
END:VEVENT
BEGIN:VEVENT
DTSTART;VALUE=DATE:20250904
DTEND;VALUE=DATE:20250906
DTSTAMP:20260421T212505
CREATED:20250812T094747Z
LAST-MODIFIED:20250812T094747Z
UID:2519-1756944000-1757116799@www.abcdtrading.com
SUMMARY:Online radionica: ABCD valna strategija
DESCRIPTION:Od teorije do prakse – konkretni primjeri na svim tržištima \n📅 Termin: 🗓️ Četvrtak\, 04. rujna 2025. u 17:00 h (trajanje: 150 min) 🗓️ Petak\, 05. rujna 2025. u 17:00 h (trajanje: 150 min) 📍 Lokacija: Online (Zoom) \n💶 Cijena: 180 €\n🎟️ Rane prijave ostvaruju 20 % popusta do 22 . kolovoza 2025. 💳 \nPlaćanje: IBAN: HR76 2407 0001 1002 4999 4\nZeleni kvadrat stana d.o.o.\nUlica Bele Bartoka 26\nZagreb \n— \n👨‍🏫 Voditelj radionice: Zdenko Grđan \nDnevni trgovac (valute\, zlato\, srebro) i mentor s preko 20 godina iskustva. \nKoristi jednostavne principe ABCD valne strategije s naglaskom na upravljanje rizicima. Održao prvi seminar o Tehničkoj analizi još 2003. godine. Vlasnik portala abcdtrading.com i suosnivač portala gt.solutions Surađuje sa – Akademija Zagrebačke Burze\, CROPEX (Hrvatska burza električne energije)\, ACI Hrvatska\, Beogradska berza \n— \n🎯 Cilj radionice \nABCD valna strategija omogućuje brže i jasnije prepoznavanje trenda i faze u kojoj se tržište nalazi\, što vodi kvalitetnijem otvaranju pozicije\, preciznijem definiranju rizika i profitnog cilja. Strategija je primjenjiva na svim vremenskim intervalima i instrumentima: dionice\, indeksi\, valute\, kripto\, obveznice. \n📌 Posebno pogodno za početnike – predznanje nije potrebno. \n— \n📚 Program radionice \n🔹 Teorija (četvrtak\, 17:00–19:30 h) \n1. Povijest i primjena simetričnih obrazaca \n2. Osnove ABCD cjenovnih pomaka \n3. Prepoznavanje impulsnog vala \n4. Točka C – središte strategije \n5. Fibonacci razine (retracement i extension) \n6. Upravljanje rizikom i definicija profita \n7. Nova točka C – prilagodba strategije \n8. ABCD vs. Elliott valna teorija \n9. Viševremenska analiza \n10. Korištenje različitih vremenskih okvira \n11. Dnevno vs. pozicijsko trgovanje \n12. Dodaci: 20 EMA\, RSI \n13. Primjeri trgovačkih strategija \n14. Zaključak i diskusija \n— \n🔹 Praksa (petak\, 17:00–19:30 h) \n✅ Analize u realnom tržišnom okruženju na MetaStock i Xenith analitičkim platformama: \n· 📊 Dionički indeksi: S&P 500\, DAX \n· 📈 Dionice: Tesla\, Apple\, Amazon\, AMD \n· 💱 Valutni parovi: EUR/USD\, AUD/CAD\, USD/JPY\, DXY \n· ₿ Kriptovalute: BTC\, ETH\, XRP \n· 🛢️ Robni futuresi: zlato\, srebro\, nafta\, plin i šećer \n· 💵 Obveznice \nU dogovoru sa polaznicima analiziramo i druge financijske instrumente. \n— \n🎓 Pridružite se radionici i saznajte zašto ABCD valna strategija mijenja pristup trgovanju. \n📩 Za prijave i dodatne informacije: info@abcdtrading.com \n🎓 Broj mjesta je ograničen – iskoristite popust na raniju prijavu!
URL:https://www.abcdtrading.com/zbivanja/online-radionica-abcd-valna-strategija-2/
CATEGORIES:Edukacije
END:VEVENT
BEGIN:VEVENT
DTSTART;TZID=UTC:20251023T180000
DTEND;TZID=UTC:20251024T210000
DTSTAMP:20260421T212505
CREATED:20251017T063019Z
LAST-MODIFIED:20251017T063019Z
UID:2525-1761242400-1761339600@www.abcdtrading.com
SUMMARY:Online radionica: ABCD valna strategija
DESCRIPTION:🎯 Od teorije do prakse – konkretni primjeri na svim tržištima \n📅 Termin:\n🗓️ Četvrtak\, 23. listopada  2025. u 18:00 h (trajanje: 150 min)\n🗓️ Petak\, 24. listopada 2025. u 18:00 h (trajanje: 150 min)\n📍 Lokacija: Online (Zoom) \n💶 Cijena: 150 €\n🎟️ Rane prijave ostvaruju 20 % popusta do 19. listopada 2025.\n💳 Plaćanje:\nIBAN: HR76 2407 0001 1002 4999 4\nZeleni kvadrat stana d.o.o.\, Ulica Bele Bartoka 26\, Zagreb \n👨‍🏫 Voditelj radionice: Zdenko Grđan \nDnevni trgovac (valute\, zlato\, srebro) i mentor s preko 20 godina iskustva.\n📌 Koristi jednostavne principe ABCD valne strategije s naglaskom na upravljanje rizicima.\n📌Održao prvi seminar o Tehničkoj analizi još 2003. godine.\n📌Vlasnik portala abcdtrading.com i suosnivač portala gt.solutions\n📌 Predavač na Akademiji Zagrebačke burze\, autor stotina analiza i edukativnih tekstova. \n🎯 Cilj radionice \nABCD valna strategija omogućuje brže i jasnije prepoznavanje trenda i tržišne faze\, što vodi kvalitetnijem ulasku u poziciju\, preciznijem definiranju rizika i profitnog cilja.\n✅ Strategija je primjenjiva na svim vremenskim intervalima i instrumentima: dionice\, indeksi\, valute\, kripto\, obveznice. \n📌 Pogodno za početnike – predznanje nije potrebno. \n📚 Program radionice \n🔹 Teorija (Četvrtak\, 18:00–20:30 h) \n\nPovijest i primjena simetričnih obrazaca\nOsnove ABCD cjenovnog pomaka\nPrepoznavanje impulsnog vala\nTočka C – središte strategije\nFibonacci razine (retracement i extension)\nUpravljanje rizikom i definicija profita\nNova točka C – prilagodba strategije\nABCD vs. Elliott valna teorija\nKorištenje različitih vremenskih perioda \nDnevno vs. pozicijsko trgovanje\nTehnički indikatori – 20 EMA\, RSI i  MACD \nPrimjeri trgovačkih strategija\nZaključak i diskusija\n\n🔹 Praktični dio (Petak\, 18:00–20:30 h) \nAnaliziramo na MetaStock i Refinitiv Eikon platformi u realnim tržišnim uvjetima: \n\n📊 Dionički indeksi: S&P 500\, DAX\, NASDAQ\n📈 Dionice: Tesla\, Apple\, Amazon\, AMD\n💱 Valutni parovi: EUR/USD\, AUD/CAD\n ₿ Kriptovalute: BTC\, ETH\, XRP\n🛢️ Robni futuresi: zlato\, srebro\, nafta\, šećer\n💵 Obveznice\nFinancijski instrumenti po izboru polaznika radionice \n\n🎓 Pridružite se radionici i saznajte zašto ABCD valna strategija mijenja pristup trgovanju. \n📩 Za prijave i dodatne informacije: info@abcdtrading.com \n🎓 Broj mjesta je ograničen – prijavite se na vrijeme i iskoristite rani popust!
URL:https://www.abcdtrading.com/zbivanja/online-radionica-abcd-valna-strategija-3/
LOCATION:Online – Zoom aplikacija
CATEGORIES:Edukacije
END:VEVENT
BEGIN:VEVENT
DTSTART;TZID=UTC:20251030T180000
DTEND;TZID=UTC:20251030T180000
DTSTAMP:20260421T212505
CREATED:20251027T113351Z
LAST-MODIFIED:20251027T113457Z
UID:2528-1761847200-1761847200@www.abcdtrading.com
SUMMARY:🧭 Webinar: Tajne uspješnog trgovanja na tržištu valuta
DESCRIPTION:U svijetu valutnog trgovanja ne postoji čarobna formula koja jamči uspjeh.\nStrategija koja jednom traderu donosi izvrsne rezultate\, drugome može biti potpuno neprimjenjiva. \nKoliko je trgovačka platforma važna u izradi analiza i kreiranju vlastitih strategija\, otkrit će nam trader-i s dugogodišnjim iskustvom u trgovanju CFD proizvodima. \n🎙️ Voditelj: Zdenko Grđan \n🎙️ Gost predavač: Alexander Roy (AvaTrade)  \n📚 Teme webinara:\n• Ključni principi uspješnog FX trgovanja\n• Kako pravilno koristiti trgovačku platformu u analizi tržišta\n• Najčešće greške početnika i kako ih izbjeći\n• Praktični primjeri postavljanja trade setupa \n📌 Bonus: Pregled najzanimljivijih grafova \n📅 Datum: Četvrtak\, 30. listopada 2025.\n🕕 Vrijeme: 18:00 h\n💻 Lokacija: Online\n🔒 Broj mjesta je ograničen – osigurajte svoje na vrijeme!\n📩 Prijave: info@abcdtrading.com  \n🗣️ Napomena: Dio webinara  održavati će se na engleskom jeziku. \n 
URL:https://www.abcdtrading.com/zbivanja/%f0%9f%a7%ad-webinar-tajne-uspjesnog-trgovanja-na-trzistu-valuta/
LOCATION:Online – Zoom aplikacija
CATEGORIES:Webinari
END:VEVENT
BEGIN:VEVENT
DTSTART;TZID=UTC:20251218T180000
DTEND;TZID=UTC:20251218T200000
DTSTAMP:20260421T212505
CREATED:20251208T060511Z
LAST-MODIFIED:20251208T060511Z
UID:2540-1766080800-1766088000@www.abcdtrading.com
SUMMARY:🎓 Webinar: Tajne uspješnog trgovanja na tržištu valuta
DESCRIPTION:💡 Opis: \nTrgovanje na tržištu valuta jedno je od najdinamičnijih i najlikvidnijih segmenata financijskih tržišta. Svakodnevno se otvara na milijarde pozicija\, a iza svakog pomaka cijene stoje interesi najvećih svjetskih financijskih institucija\, ali i individualnih tradera. \nUpravo zato\, razumijevanje strukture tržišta\, izvora likvidnosti te pravilnog pristupa analizi cijene ključni su elementi za dugoročan uspjeh u trgovanju. \nNa ovom webinaru otkrit ćemo kako Forex tržište funkcionira “iza kulisa”\, kako prepoznati kvalitetne prilike te koji su osnovni koncepti provjerene trading strategije u praksi. \nPosebni gost\, Nikola Lazić — trader s više od 15 godina iskustva u trgovanju CFD proizvodima i kriptovalutama\, uvest će nas u jedno od najdinamičnijih financijskih tržišta današnjice te podijeliti praktične savjete iz vlastitog profesionalnog iskustva. \n🧭 Teme webinara: \n*Struktura forex trzista \n*Pojam likvidnosti  \n*Osnovni koncepti moje trejding strategije \n*Osvrt na trziste \n*Q&A sesija – pitanja sudionika uživo \n🎙️ Predavač: Nikola Lazić \n                          Forex trader\, 15 godina iskustva \n                         Diplomirani ekonomist (smjer financije i bankarstvo)\n🎙️ Moderator: Zdenko Grđan\, ABCD Trading\n📅 Datum: Četvrtak 18.12.2025. u 18h  \n📍 Online – putem Zoom platforme \n✔ Besplatna prijava putem e-maila: info@abcdtrading.com\n📌 Nakon registracije dobit ćete link za pristup webinaru
URL:https://www.abcdtrading.com/zbivanja/%f0%9f%8e%93-webinar-tajne-uspjesnog-trgovanja-na-trzistu-valuta/
CATEGORIES:Webinari
END:VEVENT
BEGIN:VEVENT
DTSTART;VALUE=DATE:20260213
DTEND;VALUE=DATE:20260215
DTSTAMP:20260421T212505
CREATED:20260129T152045Z
LAST-MODIFIED:20260129T152045Z
UID:2546-1770940800-1771113599@www.abcdtrading.com
SUMMARY:TRADING EDUKACIJA ( OSNOVNI + NAPREDNI PROGRAM)
DESCRIPTION:📅 Start: 13. i 14. veljače 2026.\n️ Online edukacija putem Zoom aplikacije\n🕒 Termini održavanja:\n✅ Petkom 18:00 – 20:00\n✅ Subotom 09:00 – 11:00 \n‍ Upoznajte tim mentora:\nSandra Petrović – full time trader i mentor sa više od 10 godina iskustva. Mnogi traderi\nmisle da je problem u njihovoj strategiji\, ali Sandra će vam pokazati da je problem često u\ntome kako vaš um percipira rizik. Ona spaja surovu matematiku Market Profilea s\ndisciplinom uma\, pretvarajući trgovanje iz kockanja u predvidljiv posao.\nTomislav Kamenečki – senior edukator u Trading Schoolu najvećeg brokera na svijetu\, gdje\nsudjeluje u razvoju i edukaciji tradera na globalnoj razini. Specijaliziran je za analizu\nfinancijskih tržišta\, a njegove analize i stručni članci iz područja tehničke analize i psihologije\ntrgovanja redovito se objavljuju u newsletterima i na web stranicama namijenjenima aktivnim\ninvestitorima i traderima. Kao crypto analitičar\, daje intervjue za Bloomberg Adria te nastupa\nkao govornik na investicijskim i traderskim konferencijama. Edukaciju temelji na strukturi\,\nrazumijevanju tržišne logike i razvoju profesionalnog traderskog mindseta. \nZdenko Grđan – više od 20 godina na “prvoj liniji”: Od prvih seminara 2003. do danas –\nprošao sve tržišne cikluse. Dugogodišnji predavač na Akademiji Zagrebačke burze\n(Tehnička analiza)\, te predavač suradnik ACI-ja i CROPEX-a. Drži se zlatnog pravila – profit\nje nusproizvod vrhunskog upravljanja rizikom\, a ne pogađanja budućnosti.\n⭐ Ukupno mentorsko iskustvo: 50+ godina\nŽelite naučiti kako razumjeti tržišta\, čitati grafikon\, prepoznati trend i ključne razine\, upravljati\nrizikom i razviti disciplinu koja dugoročno donosi rezultate? Ovo nije teorijska edukacija niti\nučenje indikatora napamet. Naglasak je na primjenjivom znanju i razumijevanju kako se\ntržišta stvarno kreću.\nCilj programa je da svaki polaznik nauči izgraditi vlastiti trading plan i vlastiti trading\nproces – od analize tržišta\, definiranja smjera\, upravljanja rizikom\, do donošenja\ndiscipliniranih odluka.Mentori vas na tom putu vode svojim znanjem\, iskustvom i\nkonkretnim primjerima iz prakse.\nTijekom edukacije polaznici dobivaju zadatke i praktične smjernice\, a mentori prate\nnapredak i pomažu u ispravljanju tipičnih grešaka koje traderi rade na početku \nTri iskusna tradera u 30 sati prenose alate i vlastiti način razmišljanja koji inače zahtijevaju\ngodine pokušaja i pogrešaka\, s ciljem da polaznici mogu samostalno analizirati tržište i\nzapočeti trgovanje s jasnim pravilima.\nEdukacija ne završava zadnjim predavanjem – svi polaznici dobivaju dodatna 2 mjeseca\npodrške kroz 4 dodatna webinara\, na kojima se rade analize tržišta i odgovara na\nkonkretna pitanja iz prakse. \nOSNOVNI PROGRAM – 20h\n(Temelji trgovanja + struktura tržišta + risk management + mindset)\n✅ Ulazak u svijet trgovanja\, grafikona i tržišne logike – 2h (Zdenko)\n✅ Struktura tržišta – Kako prepoznati smjer kretanja – 2h (Zdenko)\n✅ Faze tržišta – Razumijevanje tržišnog ciklusa – 2h (Sandra)\n✅ Top-Down analiza i Weekly Bias (smjer) – 2h (Sandra)\n✅ Alati za potvrdu smjera – Indikatori kao “Bias” filteri – 2h (Zdenko)\n✅ Dinamika trenda i Trendlines – 2h (Tomislav)\n✅ Promjena strukture (Reversal) – Kako prepoznati preokret? – 2h (Sandra)\n✅ Osnove Risk Managementa – 2h (Tomislav)\n✅ R:R\, Win Rate i Slippage – Logika profitabilnosti – 2h (Tomislav)\n✅ Disciplina\, Mindset i Trading plan – 2h (Sandra) \n🏆 NAPREDNI PROGRAM – dodatnih 10h\n(PRO paket)\n(Strategije mentora + aktualno tržište + praktični dio)\n✅ Trgovačka strategija – Zdenko Grđan\n✅ Trgovačka strategija – Sandra Petrović\n✅ Trgovačka strategija – Tomislav Kamenečki\n✅ Aktualni pregled tržišta: dionice\, robni futures-i\, FX i crypto\n✅ Live trgovanje – praktični dio \n💶 Cijene edukacije\n🎓 OSNOVNI PROGRAM (20h): 690 EUR\n✅ Early Bird: 600 EUR\n🏆 NAPREDNI PROGRAM (30h): 990 EUR\n✅ Early Bird: 860 EUR\n(Broj mjesta je ograničen.) \n✅ Za koga je edukacija namijenjena?\n🔹 početnike koji žele siguran i strukturiran početak\n🔹 investitore koji žele razumjeti logiku tržišta i donijeti kvalitetnije odluke\n🔹 aktivne tradere koji žele poboljšati disciplinu i stabilnost rezultata\n🔹 sve koji žele konkretan plan i praktičan rad uz mentore \n🎯 Što dobivate?\n✅ rutinu u analiziranju grafova\n✅ pravila za upravljanje rizikom i kapitalom\n✅ znanje koje se primjenjuje odmah kroz primjere\n✅ trading plan i mindset za dugoročnu konzistentnost\n✅ napredni uvid u strategije mentora (PRO paket)\nU slučaju da ste spriječeni sudjelovati na predavanju\, osiguravamo Vam snimku koju\nmožete pogledati naknadno. \nDetalji za uplatu\nPrimatelj Zeleni kvadrat stana d.o.o.\nAdresa Ulica Bele Bartoka 26\, 10000 Zagreb\nIBAN HR76 2407 0001 1002 4999 4\nOpis plaćanja Edukacija / [Odabrani program] — [Ime i Prezime]\nKontakt info@abcdtrading.com \n⚠️ Napomena: Edukacija je edukativnog karaktera i ne predstavlja investicijski savjet.\nTrgovanje financijskim instrumentima nosi rizik.
URL:https://www.abcdtrading.com/zbivanja/trading-edukacija-osnovni-napredni-program/
LOCATION:Online – Zoom aplikacija
CATEGORIES:Edukacije
END:VEVENT
END:VCALENDAR