BEGIN:VCALENDAR
VERSION:2.0
PRODID:-//Abcd Trading - ECPv6.15.20//NONSGML v1.0//EN
CALSCALE:GREGORIAN
METHOD:PUBLISH
X-ORIGINAL-URL:https://www.abcdtrading.com
X-WR-CALDESC:Događaji za Abcd Trading
REFRESH-INTERVAL;VALUE=DURATION:PT1H
X-Robots-Tag:noindex
X-PUBLISHED-TTL:PT1H
BEGIN:VTIMEZONE
TZID:UTC
BEGIN:STANDARD
TZOFFSETFROM:+0000
TZOFFSETTO:+0000
TZNAME:UTC
DTSTART:20220101T000000
END:STANDARD
END:VTIMEZONE
BEGIN:VEVENT
DTSTART;TZID=UTC:20230422T100000
DTEND;TZID=UTC:20230422T170000
DTSTAMP:20260423T143746
CREATED:20230408T091100Z
LAST-MODIFIED:20230419T055021Z
UID:2107-1682157600-1682182800@www.abcdtrading.com
SUMMARY:EDUKACIJA na temu: ABCD valna teorija
DESCRIPTION:Nakon 20 godina provedenih u promatranju i analiziranju financijskih tržišta\, primjetio sam da se kretanje cijena ne odvija slučajno i kaotično\, nego prema vrlo preciznim i predvidljivim obrascima. Spomenuti obrasci odraz su stanja svijesti pojedinca (mase)\, a posljedica su raznih ekonomskih\, socijalnih i političkih utjecaja. ABCD valna teorija proučava kretanje cijene kroz dvije vrste gibanja na grafikonu – impulsni i korektivni val koji definiraju mini ciklus. \nPonavljanjem mini ciklusa kreira se simetrični ABCD valni obrazac koji nam omogućava:\n1. Rano prepoznavanje i određivanje dominantnog smjera kretanja cijene – identifikacija trenda\n2. Prepoznavanje korektivnih valova unutar obrasca – lakše i preciznije određujemo mjesto ulaska u poziciju\n3. Matematičkim metodama određujemo dužinu svakog vala unutar ABCD obrasca – što nam olakšava odrediti profitni cilj i podiže profitabilnost\n4. Precizno kreiranje našeg risk management-a – postižemo konzistenost \nOva analitička metoda\, primjenjiva je na svim visoko likvidnim financijskim instrumentima – dionice\, obveznice\, valute\, kripto robe\, nafta i zlato. \nNačin prijave: Online – poveznica\nRok za prijavu: petak 21.04.2023. (do podne) \nO radionici:\nVoditelj predavanja: Zdenko Grđan – preko 20 godina iskustva u aktivnom trgovanju na FX tržištu (daily strategije)\, redoviti predavač na Akademiji Zagrebačke burze – Tehnička analiza\, predsjednik HUTA-e (Hrvatske Udruge za Tehničku analizu)\, zastupnik Metastock platforme za Hrvatsku \nTrajanje:  10-17h (pauza za ručak u vremenu od 13-14h)\nCijena:  144 eur + pdv (180 eur)\nNačin plaćanja: Transakcijski račun – IBAN: HR76 2407 0001 1002 4999 4\nZeleni kvadrat stana d.o.o.\nUlica Bele Bartoka 26\, Zagreb \nCilj radionice:\nPrimjena načela ABCD valne teorije omogućuje korisnicima brzo prepoznavanje faze trenda\, što doprinosi kvalitetnijem otvaranju pozicija\, definiranju rizika i profitnog cilja. ABCD valna teorija primjenjiva je u trgovanju na svim vremenskim intervalima i sa svim financijskim instrumentima koji su likvidni – dionice\, indeksi\, valute\, kripto i robni futures-i. Za sudjelovanje na radionici nije potrebno posebno predznanje. \nProgram radionice : \nTeorija (10-13h)\n1. Grafikon – slika koja govori tisuću riječi (postavke\, tumačenje)\n2. Trend – uočavanje i pravilna identifikacija smjera kretanja cijene\n3. Support i resistance –„ borbene“ linije koje „život“ znače\n4. Osnovna valna formacija – ABCD (abceda cijenovnog pomaka)\n5. Fibonacci brojevi – kako koristiti čuvene omjere u izradi analize i trgovanju?\n6. Ovisnost profitnog cilja i vremena – istina ili mit?\n7. Cijenovno odbijanje vs cijenovno probijanje – odabir odgovarajuće strategije preduvjet za uspješno trgovanje\n8. Tehnike određivanja potencijalnog mjesta ulaska u poziciju\, rizika i profita – ispravno određivanje i shvaćanje povećava šansu za opstanak na tržištu\n9. Psihologija trgovanja – da biste bili uspješan investitor\, morate upoznati sebe i pobjediti svoj ego? \nPraksa (14-17h)\n1. Dionički indeksi – S&P 500\, DAX\, CROBEX\n2. Dionice – Tesla\, Apple\, Amazon\, AMD i jedna po odabiru većine\n3. Valutni parovi – EUR/USD\, AUD/CAD\n4. Kripto imovina – BTC\, ETH i XRP\n5. Robni futuers-i – zlato\, srebro i nafta\n6. Obveznice
URL:https://www.abcdtrading.com/zbivanja/abcd-valna-teorija/
LOCATION:Online – Zoom aplikacija
CATEGORIES:Edukacije
END:VEVENT
BEGIN:VEVENT
DTSTART;TZID=UTC:20230420T180000
DTEND;TZID=UTC:20230420T193000
DTSTAMP:20260423T143746
CREATED:20230408T091440Z
LAST-MODIFIED:20230414T125302Z
UID:2109-1682013600-1682019000@www.abcdtrading.com
SUMMARY:BESPLATAN WEBINAR na temu: FX trading (Swissqoute)
DESCRIPTION:Na globalnoj financijskoj sceni\, veliki je broj brokerskih kompanija koje nude svoje usluge\, a “malim” investitorima je sve teže donijeti odluku koga odabrati i na koje sve zamke paziti kod odabira. Vrhunska platforma sa kvalitetnim grafikonima\, što manji spread\, niski inicijalni ulog\, dobra korisnička podrška\, sigurnost za depozit\, samo su dio čimbenika koje morate uzeti u obzir prije donošenja konačne odluke. Tisuće “malih” investitora svakodnevno se uključuje u posao stoljeća\, sa ciljem ostvarivanja visokih stopa povrata\, a retail trgovina postaje sve važniji čimbenik u budućem razvoju trgovine valutama\, koja danas na dnevnoj razini premašuje 7 bilijuna američkih dolara (izvor: www.bis.org/statistics/rpfx22_fx.htm ) \nNačin prijave: Online – poveznica\nRok za prijavu: četvrtak (20.4.) do 12h
URL:https://www.abcdtrading.com/zbivanja/20-04-2023-cetvrtak-fx-trading-swissqoute-18-1930h/
LOCATION:Online – Zoom aplikacija
CATEGORIES:Webinari
ATTACH;FMTTYPE=image/png:https://www.abcdtrading.com/wp-content/uploads/2023/04/fb-objava-za-webinar.png
END:VEVENT
END:VCALENDAR